BEGIN:VCALENDAR
VERSION:2.0
PRODID:-//Native Plant Society of Oregon - ECPv6.15.20//NONSGML v1.0//EN
CALSCALE:GREGORIAN
METHOD:PUBLISH
X-WR-CALNAME:Native Plant Society of Oregon
X-ORIGINAL-URL:https://www.npsoregon.org/wp
X-WR-CALDESC:Events for Native Plant Society of Oregon
REFRESH-INTERVAL;VALUE=DURATION:PT1H
X-Robots-Tag:noindex
X-PUBLISHED-TTL:PT1H
BEGIN:VTIMEZONE
TZID:America/Los_Angeles
BEGIN:DAYLIGHT
TZOFFSETFROM:-0800
TZOFFSETTO:-0700
TZNAME:PDT
DTSTART:20250309T100000
END:DAYLIGHT
BEGIN:STANDARD
TZOFFSETFROM:-0700
TZOFFSETTO:-0800
TZNAME:PST
DTSTART:20251102T090000
END:STANDARD
BEGIN:DAYLIGHT
TZOFFSETFROM:-0800
TZOFFSETTO:-0700
TZNAME:PDT
DTSTART:20260308T100000
END:DAYLIGHT
BEGIN:STANDARD
TZOFFSETFROM:-0700
TZOFFSETTO:-0800
TZNAME:PST
DTSTART:20261101T090000
END:STANDARD
BEGIN:DAYLIGHT
TZOFFSETFROM:-0800
TZOFFSETTO:-0700
TZNAME:PDT
DTSTART:20270314T100000
END:DAYLIGHT
BEGIN:STANDARD
TZOFFSETFROM:-0700
TZOFFSETTO:-0800
TZNAME:PST
DTSTART:20271107T090000
END:STANDARD
END:VTIMEZONE
BEGIN:VEVENT
DTSTART;TZID=America/Los_Angeles:20260422T090000
DTEND;TZID=America/Los_Angeles:20260422T130000
DTSTAMP:20260421T063949
CREATED:20260402T203823Z
LAST-MODIFIED:20260402T203823Z
UID:10000521-1776848400-1776862800@www.npsoregon.org
SUMMARY:Field Trip: Camassia Nature Preserve
DESCRIPTION:Wednesday\, April 22\, 9:00 am – 1:00 pm\nField Trip: Camassia Nature Preserve\nLeader: John Savage \nJohn Savage of the Willamette Valley Chapter of the NPSO will lead a morning walk to view the blooming camas and other wildflowers of the 23-acre Camassia Nature Preserve in West Linn. Bring water and snacks.  Registration is required. For more information and to register\, email John Savage at wv****@***il.com.
URL:https://www.npsoregon.org/wp/event/field-trip-camassia-nature-preserve/
CATEGORIES:Willamette Valley
END:VEVENT
BEGIN:VEVENT
DTSTART;TZID=America/Los_Angeles:20260423T183000
DTEND;TZID=America/Los_Angeles:20260423T193000
DTSTAMP:20260421T063949
CREATED:20260402T203928Z
LAST-MODIFIED:20260402T203928Z
UID:10000522-1776969000-1776972600@www.npsoregon.org
SUMMARY:Zoom Program: The Invasive Mediterranean Oak Borer: An Emerging Threat to Oregon White Oak
DESCRIPTION:Thursday\, April 23\, 6:30 pm – 7:30 pm\nZoom Program: The Invasive Mediterranean Oak Borer: An Emerging Threat to Oregon White Oak\nPresenter: Allison Monroe \nAllison Monroe\, a PhD student at the Oregon State University College of Forestry\, will give a presentation on the emerging threat of the Mediterranean Oak Borer. She will discuss her research on its behavior\, ecological impacts\, and potential management strategies. Monroe has a background in landscape ecology\, entomology\, community-based conservation\, and traditional ecological knowledge. Registration is required. For more information and to register for this Zoom presentation\, email John Savage at wv****@***il.com.
URL:https://www.npsoregon.org/wp/event/zoom-program-the-invasive-mediterranean-oak-borer-an-emerging-threat-to-oregon-white-oak/
CATEGORIES:Willamette Valley
END:VEVENT
END:VCALENDAR