BEGIN:VCALENDAR
VERSION:2.0
PRODID:-//Native Plant Society of Oregon - ECPv6.15.20//NONSGML v1.0//EN
CALSCALE:GREGORIAN
METHOD:PUBLISH
X-WR-CALNAME:Native Plant Society of Oregon
X-ORIGINAL-URL:https://www.npsoregon.org/wp
X-WR-CALDESC:Events for Native Plant Society of Oregon
REFRESH-INTERVAL;VALUE=DURATION:PT1H
X-Robots-Tag:noindex
X-PUBLISHED-TTL:PT1H
BEGIN:VTIMEZONE
TZID:America/Los_Angeles
BEGIN:DAYLIGHT
TZOFFSETFROM:-0800
TZOFFSETTO:-0700
TZNAME:PDT
DTSTART:20250309T100000
END:DAYLIGHT
BEGIN:STANDARD
TZOFFSETFROM:-0700
TZOFFSETTO:-0800
TZNAME:PST
DTSTART:20251102T090000
END:STANDARD
BEGIN:DAYLIGHT
TZOFFSETFROM:-0800
TZOFFSETTO:-0700
TZNAME:PDT
DTSTART:20260308T100000
END:DAYLIGHT
BEGIN:STANDARD
TZOFFSETFROM:-0700
TZOFFSETTO:-0800
TZNAME:PST
DTSTART:20261101T090000
END:STANDARD
BEGIN:DAYLIGHT
TZOFFSETFROM:-0800
TZOFFSETTO:-0700
TZNAME:PDT
DTSTART:20270314T100000
END:DAYLIGHT
BEGIN:STANDARD
TZOFFSETFROM:-0700
TZOFFSETTO:-0800
TZNAME:PST
DTSTART:20271107T090000
END:STANDARD
END:VTIMEZONE
BEGIN:VEVENT
DTSTART;VALUE=DATE:20260401
DTEND;VALUE=DATE:20260501
DTSTAMP:20260421T054439
CREATED:20260217T012620Z
LAST-MODIFIED:20260217T012620Z
UID:10000474-1775001600-1777593599@www.npsoregon.org
SUMMARY:2026 Native Plant Appreciation Month Blitz
DESCRIPTION:Date:  April 1\, 12:01am-April 30\, 11:59pm \nEvent:  2026 Native Plant Appreciation Month Blitz \nLeader:  Native Plant Appreciation Month \nLocation: online in iNaturalist:\nhttps://www.inaturalist.org/projects/2026-native-plant-appreciation-month-blitz \nEvent description April is Native Plant Appreciation Month. As one form of celebration the Native Plant Society of Oregon is sponsoring a Florablitz to discover native wild (not cultivated) vascular plants in Oregon during the month of April 2026. Join us by submitting your photographed native vascular plant observations to iNaturalist. Your participation not only facilitates your enjoyment of our spring native plants but further improves botanical knowledge. No experience is necessary. Everyone is encouraged to participate!  All of your uploaded native vascular plant observations that are photographed in Oregon during all of April 2026 will be included automatically. You don’t have to “join” the project but you may do so if you like.
URL:https://www.npsoregon.org/wp/event/2026-native-plant-appreciation-month-blitz/
CATEGORIES:State
END:VEVENT
BEGIN:VEVENT
DTSTART;TZID=America/Los_Angeles:20260419T130000
DTEND;TZID=America/Los_Angeles:20260419T150000
DTSTAMP:20260421T054439
CREATED:20260402T200641Z
LAST-MODIFIED:20260402T200641Z
UID:10000501-1776603600-1776610800@www.npsoregon.org
SUMMARY:Field Trip: Baker Creek Trail at Sulphur Springs 
DESCRIPTION:Sunday April 19\, 1:00 pm – 3:00 pm \nField Trip: Baker Creek Trail at Sulphur Springs \nLeader: Alexandria Kurowski\nLocation: Baker Creek Bridge Trail\, Mcdonald Forest \nThis trip to the Sulphur Springs area of the McDonald Research Forest north of Corvallis will be an easy hike through a beautiful area to celebrate Native Plant Appreciation month! The walk is 0.24 miles long with a twenty-three-foot elevation gain. Some blooming native wildflowers that might be seen are Delphinium trolliifolium\, Trillium sp.\, Dicentra formosa\, and Cardamine sp. There is a large parking area at the trailhead for Baker Creek. Please bring water and dress appropriately for the weather. Meet at the parking area for Baker Creek Bridge trail on Sulphur Springs Road. For more information\, contact Alexandria Kurowski\, al************@***il.com
URL:https://www.npsoregon.org/wp/event/field-trip-baker-creek-trail-at-sulphur-springs-3/
CATEGORIES:Corvallis
END:VEVENT
END:VCALENDAR